BEGIN:VCALENDAR
PRODID:-//PUBBLE//agenda//NL
VERSION:2.0
METHOD:PUBLISH
BEGIN:VEVENT
DTSTART:20260508T181500Z
DTEND:20260517T193000Z
DTSTAMP:20260423T151241Z
UID:f6374398-0eed-4ba3-8925-2a9fda7ceea0
CREATED:20260423T151241Z
NAME:Voorstelling Buik bij Nieuw Capels Toneel ijsselenlekstreek.nl
X-WR-CALNAME:Voorstelling Buik bij Nieuw Capels Toneel
X-ALT-DESC;FMTTYPE=text/html:<a href='/agenda/2026/5/8/voorstelling-buik-bij-nieuw-capels-toneel-461847'>/agenda/2026/5/8/voorstelling-buik-bij-nieuw-capels-toneel-461847</a> || <p><strong>Voorstelling BUIK</strong></p><p>Bob neemt zijn zus Marit voor haar veertigste verjaardag mee naar de Texelse duinen. Maar als ze in het vakantiehuisje zijn, blijkt dat hij een dubbele agenda heeft en Marit om een bijzondere gunst wil vragen. BUIK is een scherpe, ontroerende en grappige komedie over familie- banden, snelle beslissingen en moeilijke keuzes. Over nieuw leven, laten leven en het leven laten. BUIK is geschreven door Aaf Brandt Corstius.</p><p>De voorstelling is te zien op 8, 9, 16 en 17 mei.</p><p>Reserveren via <strong>www.nieuwcapelstoneel.nl</strong></p>
DESCRIPTION:<a href='/agenda/2026/5/8/voorstelling-buik-bij-nieuw-capels-toneel-461847'>/agenda/2026/5/8/voorstelling-buik-bij-nieuw-capels-toneel-461847</a> || <p><strong>Voorstelling BUIK</strong></p><p>Bob neemt zijn zus Marit voor haar veertigste verjaardag mee naar de Texelse duinen. Maar als ze in het vakantiehuisje zijn, blijkt dat hij een dubbele agenda heeft en Marit om een bijzondere gunst wil vragen. BUIK is een scherpe, ontroerende en grappige komedie over familie- banden, snelle beslissingen en moeilijke keuzes. Over nieuw leven, laten leven en het leven laten. BUIK is geschreven door Aaf Brandt Corstius.</p><p>De voorstelling is te zien op 8, 9, 16 en 17 mei.</p><p>Reserveren via <strong>www.nieuwcapelstoneel.nl</strong></p>
LAST-MODIFIED:20260423T151241Z
LOCATION: Theater de Schenkelstee | Capelseweg 120 Capelle aan den IJssel
SEQUENCE:0
STATUS:CONFIRMED
SUMMARY:Voorstelling Buik bij Nieuw Capels Toneel
TRANSP:OPAQUE
END:VEVENT
END:VCALENDAR
