BEGIN:VCALENDAR
PRODID:-//PUBBLE//agenda//NL
VERSION:2.0
METHOD:PUBLISH
BEGIN:VEVENT
DTSTART:20251206T130000Z
DTEND:20251206T170000Z
DTSTAMP:20260423T160149Z
UID:d6baf2d0-aa7a-4169-b298-e03e86eee7f9
CREATED:20260423T160149Z
NAME:Kerstmarkt 2026 in Capelse Dorpskerk ijsselenlekstreek.nl
X-WR-CALNAME:Kerstmarkt 2026 in Capelse Dorpskerk
X-ALT-DESC;FMTTYPE=text/html:<a href='/agenda/2025/12/6/kerstmarkt-2026-in-capelse-dorpskerk-439610'>/agenda/2025/12/6/kerstmarkt-2026-in-capelse-dorpskerk-439610</a> || <p>Na het succes van vorig jaar, organiseert de Dorpskerk te Capelle aan den IJssel dit jaar weer een mini-kerstmarkt. Vind er leuke kerststukjes, kerstartikelen en feestkleding. Maar geniet ook van kerstmuziek, oliebollen en een lekkere kop warme chocolademelk. Ben jij er ook bij? Neem vooral je vrienden, vriendinnen en familie mee. Iedereen is welkom!&nbsp;</p>
DESCRIPTION:<a href='/agenda/2025/12/6/kerstmarkt-2026-in-capelse-dorpskerk-439610'>/agenda/2025/12/6/kerstmarkt-2026-in-capelse-dorpskerk-439610</a> || <p>Na het succes van vorig jaar, organiseert de Dorpskerk te Capelle aan den IJssel dit jaar weer een mini-kerstmarkt. Vind er leuke kerststukjes, kerstartikelen en feestkleding. Maar geniet ook van kerstmuziek, oliebollen en een lekkere kop warme chocolademelk. Ben jij er ook bij? Neem vooral je vrienden, vriendinnen en familie mee. Iedereen is welkom!&nbsp;</p>
LAST-MODIFIED:20260423T160149Z
LOCATION: Dorpskerk | Kerklaan 4 Capelle aan den IJssel
SEQUENCE:0
STATUS:CONFIRMED
SUMMARY:Kerstmarkt 2026 in Capelse Dorpskerk
TRANSP:OPAQUE
END:VEVENT
END:VCALENDAR
